BEGIN:VCALENDAR
CALSCALE:GREGORIAN
X-WR-TIMEZONE;VALUE=TEXT:Pacific Standard Time
METHOD:PUBLISH
PRODID:-//Flo Inc.//FloSoft//EN
BEGIN:VEVENT
DTSTART;TZID=Pacific Standard Time:20201116T074500Z
DTSTAMP:20201116T074500Z
DTEND;TZID=Pacific Standard Time:20201116T084500Z
SUMMARY;ENCODING=QUOTED-PRINTABLE:International Bruin Spotlights
DESCRIPTION;ENCODING=QUOTED-PRINTABLE:Virtual Program
LOCATION;ENCODING=QUOTED-PRINTABLE:
UID:1464020201116T074500ZInternational Bruin Spotlights
PRIORITY:3
BEGIN:VALARM
TRIGGER;VALUE=DURATION:-P1D
ACTION:DISPLAY
DESCRIPTION:Event reminder
END:VALARM
END:VEVENT
END:VCALENDAR
