BEGIN:VCALENDAR
CALSCALE:GREGORIAN
X-WR-TIMEZONE;VALUE=TEXT:Pacific Standard Time
METHOD:PUBLISH
PRODID:-//Flo Inc.//FloSoft//EN
BEGIN:VEVENT
DTSTART;TZID=Pacific Standard Time:20231011T020000Z
DTSTAMP:20231011T020000Z
DTEND;TZID=Pacific Standard Time:20231011T050000Z
SUMMARY;ENCODING=QUOTED-PRINTABLE:Atrocities, Genocide and the Duty to Prevent and to Punish Under International Law: The Situation of Nagorno-Karabakh/Artsakh
DESCRIPTION;ENCODING=QUOTED-PRINTABLE:<p>Panel discussion and reception organized by the <strong><a href="https://promiseinstitute.law.ucla.edu/" target="_blank">Promise Institute for Human Rights at UCLA Law</a></strong> and the <a href="http://www.international.ucla.edu/armenia">Promise Armenian Institute at UCLA</a>.
</p>
This event is cosponsored by the <a href="https://www.instagram.com/ucla_asa/" target="_blank">Armenian Students' Association at UCLA</a>, <a href="https://jww.org/site/" target="_blank">Jewish World Watch</a>, the <a href="https://studyofhate.ucla.edu/" target="_blank">UCLA Initiative to Study Hate</a>, the <a href="https://luskincenter.history.ucla.edu/" target="_blank">UCLA Luskin Center for History and Policy</a>, the <a href="http://naasr.org" target="_blank">National Association for Armenian Studies and Research</a>, and the <a href="https://www.humanrightsnetwork.org/" target="_blank">University Network for Human Rights</a>.
LOCATION;ENCODING=QUOTED-PRINTABLE:<strong>UCLA Mong Learning Center (Engineering VI Building)</strong>, 404 Westwood Plaza
UID:1628320231011T020000ZAtrocities, Genocide and the Duty to Prevent and to Punish Under International Law: The Situation of Nagorno-Karabakh/Artsakh
PRIORITY:3
BEGIN:VALARM
TRIGGER;VALUE=DURATION:-P1D
ACTION:DISPLAY
DESCRIPTION:Event reminder
END:VALARM
END:VEVENT
END:VCALENDAR
