BEGIN:VCALENDAR
CALSCALE:GREGORIAN
X-WR-TIMEZONE;VALUE=TEXT:Pacific Standard Time
METHOD:PUBLISH
PRODID:-//Flo Inc.//FloSoft//EN
BEGIN:VEVENT
DTSTART;TZID=Pacific Standard Time:20260428T020000Z
DTSTAMP:20260428T020000Z
DTEND;TZID=Pacific Standard Time:20260428T043000Z
SUMMARY;ENCODING=QUOTED-PRINTABLE:<i>Tatami</i>
DESCRIPTION;ENCODING=QUOTED-PRINTABLE:Join us on April 27th for the Center’s screening of <i>Tatami</i>, the first feature film co-directed by Iranian &amp; Israeli filmmakers. A riveting tale of freedom vs. oppression set in a judo arena, <i>Tatami</i> is a powerful and gripping sports thriller.
LOCATION;ENCODING=QUOTED-PRINTABLE:Royce Hall, Room 314
UID:1766620260428T020000Z<i>Tatami</i>
PRIORITY:3
BEGIN:VALARM
TRIGGER;VALUE=DURATION:-P1D
ACTION:DISPLAY
DESCRIPTION:Event reminder
END:VALARM
END:VEVENT
END:VCALENDAR
